Package: NewWave Version: 1.21.0 Command: /home/biocbuild/bbs-3.23-bioc/R/bin/R CMD INSTALL NewWave StartedAt: 2025-11-07 15:53:15 -0500 (Fri, 07 Nov 2025) EndedAt: 2025-11-07 15:53:41 -0500 (Fri, 07 Nov 2025) EllapsedTime: 25.9 seconds RetCode: 0 Status: OK