Package: NewWave Version: 1.21.0 Command: /home/biocbuild/bbs-3.23-bioc/R/bin/R CMD build --keep-empty-dirs --no-resave-data NewWave StartedAt: 2025-11-05 19:02:24 -0500 (Wed, 05 Nov 2025) EndedAt: 2025-11-05 19:04:30 -0500 (Wed, 05 Nov 2025) EllapsedTime: 126.1 seconds RetCode: 0 Status: OK PackageFile: NewWave_1.21.0.tar.gz PackageFileSize: 80.14 KiB