Package: NewWave Version: 1.19.0 Command: /Library/Frameworks/R.framework/Resources/bin/R CMD INSTALL NewWave StartedAt: 2025-10-23 15:47:41 -0400 (Thu, 23 Oct 2025) EndedAt: 2025-10-23 15:48:17 -0400 (Thu, 23 Oct 2025) EllapsedTime: 36.4 seconds RetCode: 0 Status: OK