Package: NewWave Version: 1.19.0 Command: /Library/Frameworks/R.framework/Resources/bin/R CMD build --keep-empty-dirs --no-resave-data NewWave StartedAt: 2025-10-23 17:57:44 -0400 (Thu, 23 Oct 2025) EndedAt: 2025-10-23 17:59:50 -0400 (Thu, 23 Oct 2025) EllapsedTime: 125.8 seconds RetCode: 0 Status: OK PackageFile: NewWave_1.19.0.tar.gz PackageFileSize: 94.98 KiB