Package: NewWave Version: 1.19.0 Command: /Library/Frameworks/R.framework/Resources/bin/R CMD INSTALL NewWave StartedAt: 2025-10-16 15:41:25 -0400 (Thu, 16 Oct 2025) EndedAt: 2025-10-16 15:41:35 -0400 (Thu, 16 Oct 2025) EllapsedTime: 10.4 seconds RetCode: 0 Status: OK