Package: NewWave Version: 1.19.0 Command: /Library/Frameworks/R.framework/Resources/bin/R CMD build --keep-empty-dirs --no-resave-data NewWave StartedAt: 2025-10-16 17:25:39 -0400 (Thu, 16 Oct 2025) EndedAt: 2025-10-16 17:26:36 -0400 (Thu, 16 Oct 2025) EllapsedTime: 56.7 seconds RetCode: 0 Status: OK PackageFile: NewWave_1.19.0.tar.gz PackageFileSize: 96.27 KiB