Package: NewWave Version: 1.19.0 Command: rm -rf NewWave.buildbin-libdir && mkdir NewWave.buildbin-libdir && /Users/biocbuild/BBS/utils/build-universal.sh NewWave_1.19.0.tar.gz /Library/Frameworks/R.framework/Resources/bin/R NewWave.buildbin-libdir StartedAt: 2025-10-16 23:10:40 -0400 (Thu, 16 Oct 2025) EndedAt: 2025-10-16 23:10:51 -0400 (Thu, 16 Oct 2025) EllapsedTime: 11.2 seconds RetCode: 0 Status: OK PackageFile: NewWave_1.19.0.tgz PackageFileSize: 427.9 KiB