Package: NetSAM Version: 1.49.0 Command: /home/biocbuild/R/R/bin/R CMD INSTALL NetSAM StartedAt: 2025-10-16 22:12:18 -0000 (Thu, 16 Oct 2025) EndedAt: 2025-10-16 22:12:51 -0000 (Thu, 16 Oct 2025) EllapsedTime: 32.7 seconds RetCode: 0 Status: OK