Package: NetSAM Version: 1.49.0 Command: /home/biocbuild/R/R/bin/R CMD build --keep-empty-dirs --no-resave-data NetSAM StartedAt: 2025-10-17 03:10:31 -0000 (Fri, 17 Oct 2025) EndedAt: 2025-10-17 03:11:10 -0000 (Fri, 17 Oct 2025) EllapsedTime: 39.0 seconds RetCode: 0 Status: OK PackageFile: NetSAM_1.49.0.tar.gz PackageFileSize: 1.023 MiB