Package: NetSAM Version: 1.49.0 Command: /home/biocbuild/bbs-3.22-bioc/R/bin/R CMD check --install=check:NetSAM.install-out.txt --library=/home/biocbuild/bbs-3.22-bioc/R/site-library --timings NetSAM_1.49.0.tar.gz StartedAt: 2025-10-13 02:20:46 -0400 (Mon, 13 Oct 2025) EndedAt: 2025-10-13 02:45:44 -0400 (Mon, 13 Oct 2025) EllapsedTime: 1497.8 seconds RetCode: 0 Status: OK CheckDir: NetSAM.Rcheck Warnings: 0