Package: NetSAM Version: 1.51.0 Command: /home/biocbuild/bbs-3.23-bioc/R/bin/R CMD INSTALL NetSAM StartedAt: 2025-11-04 15:46:38 -0500 (Tue, 04 Nov 2025) EndedAt: 2025-11-04 15:47:02 -0500 (Tue, 04 Nov 2025) EllapsedTime: 23.8 seconds RetCode: 0 Status: OK