Package: NetSAM Version: 1.51.0 Command: /home/biocbuild/bbs-3.23-bioc/R/bin/R CMD check --install=check:NetSAM.install-out.txt --library=/home/biocbuild/bbs-3.23-bioc/R/site-library --timings NetSAM_1.51.0.tar.gz StartedAt: 2025-11-22 02:02:55 -0500 (Sat, 22 Nov 2025) EndedAt: 2025-11-22 02:27:05 -0500 (Sat, 22 Nov 2025) EllapsedTime: 1450.2 seconds RetCode: 0 Status: OK CheckDir: NetSAM.Rcheck Warnings: 0