Package: NetSAM Version: 1.51.0 Command: /home/biocbuild/bbs-3.23-bioc/R/bin/R CMD build --keep-empty-dirs --no-resave-data NetSAM StartedAt: 2025-11-04 18:54:59 -0500 (Tue, 04 Nov 2025) EndedAt: 2025-11-04 18:55:28 -0500 (Tue, 04 Nov 2025) EllapsedTime: 29.0 seconds RetCode: 0 Status: OK PackageFile: NetSAM_1.51.0.tar.gz PackageFileSize: 1.034 MiB