Package: NetPathMiner Version: 1.45.0 Command: /home/biocbuild/R/R/bin/R CMD INSTALL NetPathMiner StartedAt: 2025-10-06 20:13:21 -0000 (Mon, 06 Oct 2025) EndedAt: 2025-10-06 20:13:55 -0000 (Mon, 06 Oct 2025) EllapsedTime: 34.4 seconds RetCode: 0 Status: OK