Package: NetPathMiner Version: 1.45.0 Command: /home/biocbuild/R/R/bin/R CMD build --keep-empty-dirs --no-resave-data NetPathMiner StartedAt: 2025-10-07 01:32:19 -0000 (Tue, 07 Oct 2025) EndedAt: 2025-10-07 01:32:52 -0000 (Tue, 07 Oct 2025) EllapsedTime: 33.0 seconds RetCode: 0 Status: OK PackageFile: NetPathMiner_1.45.0.tar.gz PackageFileSize: 1.435 MiB