Package: NetPathMiner Version: 1.47.0 Command: /home/biocbuild/bbs-3.23-bioc/R/bin/R CMD INSTALL NetPathMiner StartedAt: 2025-10-31 15:13:33 -0400 (Fri, 31 Oct 2025) EndedAt: 2025-10-31 15:13:48 -0400 (Fri, 31 Oct 2025) EllapsedTime: 15.2 seconds RetCode: 0 Status: OK