Package: NetPathMiner Version: 1.47.0 Command: /home/biocbuild/bbs-3.23-bioc/R/bin/R CMD check --install=check:NetPathMiner.install-out.txt --library=/home/biocbuild/bbs-3.23-bioc/R/site-library --timings NetPathMiner_1.47.0.tar.gz StartedAt: 2025-11-01 01:41:13 -0400 (Sat, 01 Nov 2025) EndedAt: 2025-11-01 01:42:21 -0400 (Sat, 01 Nov 2025) EllapsedTime: 67.1 seconds RetCode: 0 Status: OK CheckDir: NetPathMiner.Rcheck Warnings: 0