Package: NetPathMiner Version: 1.47.0 Command: /home/biocbuild/bbs-3.23-bioc/R/bin/R CMD build --keep-empty-dirs --no-resave-data NetPathMiner StartedAt: 2025-10-31 19:08:43 -0400 (Fri, 31 Oct 2025) EndedAt: 2025-10-31 19:09:10 -0400 (Fri, 31 Oct 2025) EllapsedTime: 27.0 seconds RetCode: 0 Status: OK PackageFile: NetPathMiner_1.47.0.tar.gz PackageFileSize: 2.283 MiB