Package: NetActivity Version: 1.11.0 Command: /home/biocbuild/R/R/bin/R CMD INSTALL NetActivity StartedAt: 2025-10-13 21:07:06 -0000 (Mon, 13 Oct 2025) EndedAt: 2025-10-13 21:07:37 -0000 (Mon, 13 Oct 2025) EllapsedTime: 31.6 seconds RetCode: 0 Status: OK