Package: NetActivity Version: 1.11.0 Command: /home/biocbuild/R/R/bin/R CMD build --keep-empty-dirs --no-resave-data NetActivity StartedAt: 2025-10-14 02:11:58 -0000 (Tue, 14 Oct 2025) EndedAt: 2025-10-14 02:13:18 -0000 (Tue, 14 Oct 2025) EllapsedTime: 80.0 seconds RetCode: 0 Status: OK PackageFile: NetActivity_1.11.0.tar.gz PackageFileSize: 420.9 KiB