Package: NetActivity Version: 1.13.0 Command: /home/biocbuild/bbs-3.23-bioc/R/bin/R CMD check --install=check:NetActivity.install-out.txt --library=/home/biocbuild/bbs-3.23-bioc/R/site-library --timings NetActivity_1.13.0.tar.gz StartedAt: 2025-11-15 02:08:40 -0500 (Sat, 15 Nov 2025) EndedAt: 2025-11-15 02:12:53 -0500 (Sat, 15 Nov 2025) EllapsedTime: 253.3 seconds RetCode: 0 Status: OK CheckDir: NetActivity.Rcheck Warnings: 0