Package: Nebulosa Version: 1.21.0 Command: /home/biocbuild/bbs-3.23-bioc/R/bin/R CMD INSTALL Nebulosa StartedAt: 2025-11-20 15:19:18 -0500 (Thu, 20 Nov 2025) EndedAt: 2025-11-20 15:19:48 -0500 (Thu, 20 Nov 2025) EllapsedTime: 30.0 seconds RetCode: 0 Status: OK