Package: Nebulosa Version: 1.19.0 Command: /Library/Frameworks/R.framework/Resources/bin/R CMD INSTALL Nebulosa StartedAt: 2025-10-13 15:23:30 -0400 (Mon, 13 Oct 2025) EndedAt: 2025-10-13 15:24:10 -0400 (Mon, 13 Oct 2025) EllapsedTime: 40.8 seconds RetCode: 0 Status: OK