Package: Nebulosa Version: 1.19.0 Command: rm -rf Nebulosa.buildbin-libdir && mkdir Nebulosa.buildbin-libdir && /Users/biocbuild/BBS/utils/build-universal.sh Nebulosa_1.19.0.tar.gz /Library/Frameworks/R.framework/Resources/bin/R Nebulosa.buildbin-libdir StartedAt: 2025-10-14 02:57:08 -0400 (Tue, 14 Oct 2025) EndedAt: 2025-10-14 02:57:54 -0400 (Tue, 14 Oct 2025) EllapsedTime: 46.1 seconds RetCode: 0 Status: OK PackageFile: Nebulosa_1.19.0.tgz PackageFileSize: 3.576 MiB