Package: Nebulosa Version: 1.19.0 Command: /Library/Frameworks/R.framework/Resources/bin/R CMD INSTALL Nebulosa StartedAt: 2025-09-30 15:12:54 -0400 (Tue, 30 Sep 2025) EndedAt: 2025-09-30 15:13:06 -0400 (Tue, 30 Sep 2025) EllapsedTime: 11.9 seconds RetCode: 0 Status: OK