Package: Nebulosa Version: 1.19.0 Command: rm -rf Nebulosa.buildbin-libdir && mkdir Nebulosa.buildbin-libdir && /Users/biocbuild/BBS/utils/build-universal.sh Nebulosa_1.19.0.tar.gz /Library/Frameworks/R.framework/Resources/bin/R Nebulosa.buildbin-libdir StartedAt: 2025-09-30 22:48:58 -0400 (Tue, 30 Sep 2025) EndedAt: 2025-09-30 22:49:12 -0400 (Tue, 30 Sep 2025) EllapsedTime: 14.3 seconds RetCode: 0 Status: OK PackageFile: Nebulosa_1.19.0.tgz PackageFileSize: 4.234 MiB