Package: NanoTube Version: 1.17.0 Command: /home/biocbuild/bbs-3.23-bioc/R/bin/R CMD INSTALL NanoTube StartedAt: 2025-11-20 15:12:29 -0500 (Thu, 20 Nov 2025) EndedAt: 2025-11-20 15:12:40 -0500 (Thu, 20 Nov 2025) EllapsedTime: 11.2 seconds RetCode: 0 Status: OK