Package: NanoTube Version: 1.17.0 Command: /home/biocbuild/bbs-3.23-bioc/R/bin/R CMD build --keep-empty-dirs --no-resave-data NanoTube StartedAt: 2025-11-20 18:58:14 -0500 (Thu, 20 Nov 2025) EndedAt: 2025-11-20 18:58:56 -0500 (Thu, 20 Nov 2025) EllapsedTime: 42.0 seconds RetCode: 0 Status: OK PackageFile: NanoTube_1.17.0.tar.gz PackageFileSize: 1.99 MiB