Package: NanoTube Version: 1.15.0 Command: /Library/Frameworks/R.framework/Resources/bin/R CMD INSTALL NanoTube StartedAt: 2025-10-17 15:07:10 -0400 (Fri, 17 Oct 2025) EndedAt: 2025-10-17 15:07:14 -0400 (Fri, 17 Oct 2025) EllapsedTime: 4.2 seconds RetCode: 0 Status: OK