Package: NanoStringNCTools Version: 1.17.2 Command: /home/biocbuild/R/R/bin/R CMD check --install=check:NanoStringNCTools.install-out.txt --library=/home/biocbuild/R/R/site-library --no-vignettes --timings NanoStringNCTools_1.17.2.tar.gz StartedAt: 2025-10-17 11:37:11 -0000 (Fri, 17 Oct 2025) EndedAt: 2025-10-17 11:39:38 -0000 (Fri, 17 Oct 2025) EllapsedTime: 146.1 seconds RetCode: 0 Status: OK CheckDir: NanoStringNCTools.Rcheck Warnings: 0