Package: NanoStringNCTools Version: 1.19.0 Command: /home/biocbuild/bbs-3.23-bioc/R/bin/R CMD build --keep-empty-dirs --no-resave-data NanoStringNCTools StartedAt: 2025-11-02 18:53:19 -0500 (Sun, 02 Nov 2025) EndedAt: 2025-11-02 18:53:50 -0500 (Sun, 02 Nov 2025) EllapsedTime: 31.0 seconds RetCode: 0 Status: OK PackageFile: NanoStringNCTools_1.19.0.tar.gz PackageFileSize: 500.2 KiB