Package: NanoStringNCTools Version: 1.17.2 Command: /Library/Frameworks/R.framework/Resources/bin/R CMD check --install=check:NanoStringNCTools.install-out.txt --library=/Library/Frameworks/R.framework/Resources/library --no-vignettes --timings NanoStringNCTools_1.17.2.tar.gz StartedAt: 2025-10-14 23:51:22 -0400 (Tue, 14 Oct 2025) EndedAt: 2025-10-14 23:53:55 -0400 (Tue, 14 Oct 2025) EllapsedTime: 152.2 seconds RetCode: 0 Status: OK CheckDir: NanoStringNCTools.Rcheck Warnings: 0