Package: NanoStringDiff Version: 1.41.0 Command: /home/biocbuild/bbs-3.23-bioc/R/bin/R CMD check --install=check:NanoStringDiff.install-out.txt --library=/home/biocbuild/bbs-3.23-bioc/R/site-library --timings NanoStringDiff_1.41.0.tar.gz StartedAt: 2025-11-21 01:58:47 -0500 (Fri, 21 Nov 2025) EndedAt: 2025-11-21 02:00:47 -0500 (Fri, 21 Nov 2025) EllapsedTime: 120.4 seconds RetCode: 0 Status: WARNINGS CheckDir: NanoStringDiff.Rcheck Warnings: 1