Package: NanoMethViz Version: 3.5.6 Command: /home/biocbuild/R/R/bin/R CMD INSTALL NanoMethViz StartedAt: 2025-10-13 21:43:40 -0000 (Mon, 13 Oct 2025) EndedAt: 2025-10-13 21:45:21 -0000 (Mon, 13 Oct 2025) EllapsedTime: 100.6 seconds RetCode: 0 Status: OK