Package: NanoMethViz Version: 3.5.6 Command: /home/biocbuild/R/R/bin/R CMD build --keep-empty-dirs --no-resave-data NanoMethViz StartedAt: 2025-10-14 02:10:11 -0000 (Tue, 14 Oct 2025) EndedAt: 2025-10-14 02:14:06 -0000 (Tue, 14 Oct 2025) EllapsedTime: 234.1 seconds RetCode: 0 Status: OK PackageFile: NanoMethViz_3.5.6.tar.gz PackageFileSize: 12.89 MiB