Package: NanoMethViz Version: 3.5.5 Command: rm -rf NanoMethViz.buildbin-libdir && mkdir NanoMethViz.buildbin-libdir && F:\biocbuild\bbs-3.22-bioc\R\bin\R.exe CMD INSTALL --build --library=NanoMethViz.buildbin-libdir NanoMethViz_3.5.5.tar.gz StartedAt: 2025-08-15 10:49:28 -0400 (Fri, 15 Aug 2025) EndedAt: 2025-08-15 10:52:43 -0400 (Fri, 15 Aug 2025) EllapsedTime: 195.1 seconds RetCode: 0 Status: OK PackageFile: NanoMethViz_3.5.5.zip PackageFileSize: 13.95 MiB