Package: NanoMethViz Version: 3.5.6 Command: /home/biocbuild/bbs-3.22-bioc/R/bin/R CMD check --install=check:NanoMethViz.install-out.txt --library=/home/biocbuild/bbs-3.22-bioc/R/site-library --timings NanoMethViz_3.5.6.tar.gz StartedAt: 2025-10-11 02:28:43 -0400 (Sat, 11 Oct 2025) EndedAt: 2025-10-11 02:41:31 -0400 (Sat, 11 Oct 2025) EllapsedTime: 767.9 seconds RetCode: 0 Status: OK CheckDir: NanoMethViz.Rcheck Warnings: 0