Package: NanoMethViz Version: 3.7.0 Command: /home/biocbuild/bbs-3.23-bioc/R/bin/R CMD INSTALL NanoMethViz StartedAt: 2025-11-04 15:53:10 -0500 (Tue, 04 Nov 2025) EndedAt: 2025-11-04 15:54:24 -0500 (Tue, 04 Nov 2025) EllapsedTime: 73.8 seconds RetCode: 0 Status: OK