Package: NanoMethViz Version: 3.7.0 Command: /home/biocbuild/bbs-3.23-bioc/R/bin/R CMD check --install=check:NanoMethViz.install-out.txt --library=/home/biocbuild/bbs-3.23-bioc/R/site-library --timings NanoMethViz_3.7.0.tar.gz StartedAt: 2025-11-15 02:05:27 -0500 (Sat, 15 Nov 2025) EndedAt: 2025-11-15 02:18:05 -0500 (Sat, 15 Nov 2025) EllapsedTime: 758.2 seconds RetCode: 0 Status: OK CheckDir: NanoMethViz.Rcheck Warnings: 0