Package: NanoMethViz Version: 3.7.0 Command: /home/biocbuild/bbs-3.23-bioc/R/bin/R CMD build --keep-empty-dirs --no-resave-data NanoMethViz StartedAt: 2025-11-04 18:52:22 -0500 (Tue, 04 Nov 2025) EndedAt: 2025-11-04 18:55:03 -0500 (Tue, 04 Nov 2025) EllapsedTime: 161.1 seconds RetCode: 0 Status: OK PackageFile: NanoMethViz_3.7.0.tar.gz PackageFileSize: 13.39 MiB