Package: NTW Version: 1.61.0 Command: /home/biocbuild/bbs-3.23-bioc/R/bin/R CMD INSTALL NTW StartedAt: 2025-11-20 15:04:15 -0500 (Thu, 20 Nov 2025) EndedAt: 2025-11-20 15:04:35 -0500 (Thu, 20 Nov 2025) EllapsedTime: 19.3 seconds RetCode: 0 Status: OK