Package: NTW Version: 1.61.0 Command: /home/biocbuild/bbs-3.23-bioc/R/bin/R CMD build --keep-empty-dirs --no-resave-data NTW StartedAt: 2025-11-20 19:02:40 -0500 (Thu, 20 Nov 2025) EndedAt: 2025-11-20 19:02:50 -0500 (Thu, 20 Nov 2025) EllapsedTime: 10.0 seconds RetCode: 0 Status: OK PackageFile: NTW_1.61.0.tar.gz PackageFileSize: 872 KiB