Package: NTW Version: 1.59.0 Command: /Library/Frameworks/R.framework/Resources/bin/R CMD INSTALL NTW StartedAt: 2025-10-24 15:14:49 -0400 (Fri, 24 Oct 2025) EndedAt: 2025-10-24 15:15:24 -0400 (Fri, 24 Oct 2025) EllapsedTime: 34.8 seconds RetCode: 0 Status: OK