Package: NTW Version: 1.59.0 Command: /Library/Frameworks/R.framework/Resources/bin/R CMD build --keep-empty-dirs --no-resave-data NTW StartedAt: 2025-10-24 18:04:45 -0400 (Fri, 24 Oct 2025) EndedAt: 2025-10-24 18:05:01 -0400 (Fri, 24 Oct 2025) EllapsedTime: 15.9 seconds RetCode: 0 Status: OK PackageFile: NTW_1.59.0.tar.gz PackageFileSize: 870.9 KiB