Package: NTW Version: 1.59.0 Command: rm -rf NTW.buildbin-libdir && mkdir NTW.buildbin-libdir && /Users/biocbuild/BBS/utils/build-universal.sh NTW_1.59.0.tar.gz /Library/Frameworks/R.framework/Resources/bin/R NTW.buildbin-libdir StartedAt: 2025-10-25 01:53:39 -0400 (Sat, 25 Oct 2025) EndedAt: 2025-10-25 01:53:44 -0400 (Sat, 25 Oct 2025) EllapsedTime: 4.6 seconds RetCode: 0 Status: OK PackageFile: NTW_1.59.0.tgz PackageFileSize: 618.9 KiB