Package: NTW Version: 1.59.0 Command: /Library/Frameworks/R.framework/Resources/bin/R CMD INSTALL NTW StartedAt: 2025-10-14 15:03:14 -0400 (Tue, 14 Oct 2025) EndedAt: 2025-10-14 15:03:23 -0400 (Tue, 14 Oct 2025) EllapsedTime: 9.1 seconds RetCode: 0 Status: OK