Package: NTW Version: 1.59.0 Command: /Library/Frameworks/R.framework/Resources/bin/R CMD build --keep-empty-dirs --no-resave-data NTW StartedAt: 2025-10-14 17:14:05 -0400 (Tue, 14 Oct 2025) EndedAt: 2025-10-14 17:14:10 -0400 (Tue, 14 Oct 2025) EllapsedTime: 5.1 seconds RetCode: 0 Status: OK PackageFile: NTW_1.59.0.tar.gz PackageFileSize: 872.1 KiB