Package: NPARC Version: 1.23.0 Command: /home/biocbuild/bbs-3.23-bioc/R/bin/R CMD INSTALL NPARC StartedAt: 2025-11-07 15:09:44 -0500 (Fri, 07 Nov 2025) EndedAt: 2025-11-07 15:09:58 -0500 (Fri, 07 Nov 2025) EllapsedTime: 13.3 seconds RetCode: 0 Status: OK