Package: NPARC Version: 1.23.0 Command: /home/biocbuild/bbs-3.23-bioc/R/bin/R CMD build --keep-empty-dirs --no-resave-data NPARC StartedAt: 2025-11-07 18:57:46 -0500 (Fri, 07 Nov 2025) EndedAt: 2025-11-07 19:01:09 -0500 (Fri, 07 Nov 2025) EllapsedTime: 203.2 seconds RetCode: 0 Status: OK PackageFile: NPARC_1.23.0.tar.gz PackageFileSize: 2.257 MiB