Package: NPARC Version: 1.21.0 Command: /Library/Frameworks/R.framework/Resources/bin/R CMD build --keep-empty-dirs --no-resave-data NPARC StartedAt: 2025-10-13 18:29:29 -0400 (Mon, 13 Oct 2025) EndedAt: 2025-10-13 18:34:29 -0400 (Mon, 13 Oct 2025) EllapsedTime: 299.6 seconds RetCode: 0 Status: OK PackageFile: NPARC_1.21.0.tar.gz PackageFileSize: 2.306 MiB